BEGIN:VCALENDAR
VERSION:2.0
PRODID:-//ChamberMaster//Event Calendar 2.0//EN
METHOD:PUBLISH
X-PUBLISHED-TTL:P1H
REFRESH-INTERVAL:P1H
CALSCALE:GREGORIAN
BEGIN:VTIMEZONE
TZID:America/New_York
BEGIN:DAYLIGHT
RRULE:FREQ=YEARLY;BYMONTH=3;BYDAY=2SU
DTSTART:20070101T000000
TZOFFSETFROM:-0500
TZOFFSETTO:-0400
TZNAME:Eastern Daylight Time
END:DAYLIGHT
BEGIN:STANDARD
RRULE:FREQ=YEARLY;BYMONTH=11;BYDAY=1SU
DTSTART:20070101T000000
TZOFFSETFROM:-0400
TZOFFSETTO:-0500
TZNAME:Eastern Standard Time
END:STANDARD
END:VTIMEZONE
BEGIN:VEVENT
DTSTART;TZID=America/New_York:20260805T113000
DTEND;TZID=America/New_York:20260805T130000
X-MICROSOFT-CDO-ALLDAYEVENT:FALSE
SUMMARY:Success Luncheon - Chamber
DESCRIPTION:Success Luncheon is a structured professional development training program. Each session focuses on timely topics that support career growth\, leadership development\, and workplace success\, giving participants practical tools they can immediately apply in their professional roles. Designed for business owners\, professionals\, and emerging leaders\, the program combines expert-led training with meaningful discussion in a relaxed lunchtime setting. Attendees will leave with new skills\, actionable insights\, and a stronger connection to the Greater Fayetteville business community - making the GFC Success Luncheon a smart investment in both personal and professional growth.
X-ALT-DESC;FMTTYPE=text/html:Success Luncheon is a structured professional development training program. Each session focuses on timely topics that support career growth\, leadership development\, and workplace success\, giving participants practical tools they can immediately apply in their professional roles. Designed for business owners\, professionals\, and emerging leaders\, the program combines expert-led training with meaningful discussion in a relaxed lunchtime setting. Attendees will leave with new skills\, actionable insights\, and a stronger connection to the Greater Fayetteville business community - making the GFC Success Luncheon a smart investment in both personal and professional growth.
LOCATION:1047 Murchison Rd. Fayetteville NC
UID:e.4649.1427138
SEQUENCE:3
DTSTAMP:20260420T143922Z
URL:https://greaterfayettevillechambernc.growthzoneapp.com/community-events/Details/success-luncheon-chamber-1687870?sourceTypeId=Hub
END:VEVENT
END:VCALENDAR
