BEGIN:VCALENDAR
VERSION:2.0
PRODID:-//ChamberMaster//Event Calendar 2.0//EN
METHOD:PUBLISH
X-PUBLISHED-TTL:P1H
REFRESH-INTERVAL:P1H
CALSCALE:GREGORIAN
BEGIN:VTIMEZONE
TZID:America/New_York
BEGIN:DAYLIGHT
RRULE:FREQ=YEARLY;BYMONTH=3;BYDAY=2SU
DTSTART:20070101T000000
TZOFFSETFROM:-0500
TZOFFSETTO:-0400
TZNAME:Eastern Daylight Time
END:DAYLIGHT
BEGIN:STANDARD
RRULE:FREQ=YEARLY;BYMONTH=11;BYDAY=1SU
DTSTART:20070101T000000
TZOFFSETFROM:-0400
TZOFFSETTO:-0500
TZNAME:Eastern Standard Time
END:STANDARD
END:VTIMEZONE
BEGIN:VEVENT
DTSTART;TZID=America/New_York:20260901T070000
DTEND;TZID=America/New_York:20260901T090000
X-MICROSOFT-CDO-ALLDAYEVENT:FALSE
SUMMARY:Business Networking Breakfast 2026
DESCRIPTION:The GFC Business Networking Breakfast provides a warm and intimate environment where professionals can genuinely connect over a delicious breakfast and fresh coffee. This monthly gathering is designed to help attendees build meaningful relationships\, expand their networks\, and increase visibility for their businesses. In addition to open conversation and connection\, participants stay informed about upcoming Chamber initiatives\, community events\, and opportunities for engagement. It’s a relaxed\, high-value way to start the morning—with great food\, great company\, and great conversation.
X-ALT-DESC;FMTTYPE=text/html:The GFC Business Networking Breakfast provides a warm and intimate environment where professionals can genuinely connect over a delicious breakfast and fresh coffee. This monthly gathering is designed to help attendees build meaningful relationships\, expand their networks\, and increase visibility for their businesses. In addition to open conversation and connection\, participants stay informed about upcoming Chamber initiatives\, community events\, and opportunities for engagement. It’s a relaxed\, high-value way to start the morning—with great food\, great company\, and great conversation.
LOCATION:2817 Fort Bragg Rd Fayetteville NC 28303
UID:e.4649.1423552
SEQUENCE:3
DTSTAMP:20260420T143754Z
URL:https://greaterfayettevillechambernc.growthzoneapp.com/community-events/Details/business-networking-breakfast-2026-1671431?sourceTypeId=Hub
END:VEVENT
END:VCALENDAR
