BEGIN:VCALENDAR
VERSION:2.0
PRODID:-//ChamberMaster//Event Calendar 2.0//EN
METHOD:PUBLISH
X-PUBLISHED-TTL:P1H
REFRESH-INTERVAL:P1H
CALSCALE:GREGORIAN
BEGIN:VTIMEZONE
TZID:America/New_York
BEGIN:DAYLIGHT
RRULE:FREQ=YEARLY;BYMONTH=3;BYDAY=2SU
DTSTART:20070101T000000
TZOFFSETFROM:-0500
TZOFFSETTO:-0400
TZNAME:Eastern Daylight Time
END:DAYLIGHT
BEGIN:STANDARD
RRULE:FREQ=YEARLY;BYMONTH=11;BYDAY=1SU
DTSTART:20070101T000000
TZOFFSETFROM:-0400
TZOFFSETTO:-0500
TZNAME:Eastern Standard Time
END:STANDARD
END:VTIMEZONE
BEGIN:VEVENT
DTSTART;TZID=America/New_York:20260717T100000
DTEND;TZID=America/New_York:20260717T140000
X-MICROSOFT-CDO-ALLDAYEVENT:FALSE
SUMMARY:Career & Resource Expo 2026
DESCRIPTION:Join the Greater Fayetteville Chamber at the second annual Career & Resource Expo!\nHosted by the Crown Complex\n\nHIRING?\nJoin us for a dynamic opportunity to connect with candidates at our Career & Resource Expo!  This event is designed to bridge the gap between eager job seekers and thriving Chamber businesses\, all under one roof.\n\nAre you looking to showcase your company\, attract top talent\, and conduct interviews on the spot? Don't miss the chance to be a part of this bustling expo!\n\nPromote Your Business:  Showcase your company's vision\, culture\, and career opportunities to a diverse pool of job seekers.\nOn-the-Spot Interviews: Streamline your hiring process by conducting interviews right at your booth or in a private interview area\, connecting with potential candidates instantly.\nNetworking:  Forge valuable connections with fellow industry leaders and professionals\, expanding your network and potential collaborations.\n​This event will be at NO COST for the candidates and it's OPEN TO THE PUBLIC ensuring inclusivity\, diversity\, and accessibility. Plans are in the works to reach candidates and Fort Bragg spouses\, with promotions within the community\, on radio\, social media\, and print. Register now to ensure your company is listed in the promotional materials. ​\nPayment is required at the time of registration. \nSecure your booth NOW for only $100\, vendors will receive:\n\nBooth Space for all vendors PLUS an additional private space (upon request at time of registration) for hiring vendors to conduct interviews. Set-up begins at 8:00am.\n\nPower to your booth (upon request at time of registration)\n\nA table w tablecloth\n\n2 chairs\n\nWi-Fi​\n\nBECOME A SPONSOR!
X-ALT-DESC;FMTTYPE=text/html:Join the Greater Fayetteville Chamber at the second annual Career & Resource Expo!\nHosted by the Crown Complex\n\nHIRING?\nJoin us for a dynamic opportunity to connect with candidates at our Career & Resource Expo!  This event is designed to bridge the gap between eager job seekers and thriving Chamber businesses\, all under one roof.\n\nAre you looking to showcase your company\, attract top talent\, and conduct interviews on the spot? Don't miss the chance to be a part of this bustling expo!\n\nPromote Your Business:  Showcase your company's vision\, culture\, and career opportunities to a diverse pool of job seekers.\nOn-the-Spot Interviews: Streamline your hiring process by conducting interviews right at your booth or in a private interview area\, connecting with potential candidates instantly.\nNetworking:  Forge valuable connections with fellow industry leaders and professionals\, expanding your network and potential collaborations.\n​This event will be at NO COST for the candidates and it's OPEN TO THE PUBLIC ensuring inclusivity\, diversity\, and accessibility. Plans are in the works to reach candidates and Fort Bragg spouses\, with promotions within the community\, on radio\, social media\, and print. Register now to ensure your company is listed in the promotional materials. ​\nPayment is required at the time of registration. \nSecure your booth NOW for only $100\, vendors will receive:\n\nBooth Space for all vendors PLUS an additional private space (upon request at time of registration) for hiring vendors to conduct interviews. Set-up begins at 8:00am.\n\nPower to your booth (upon request at time of registration)\n\nA table w tablecloth\n\n2 chairs\n\nWi-Fi​\n\nBECOME A SPONSOR!
LOCATION:1960 Coliseum Drive Fayetteville NC 28306
UID:e.4649.1429547
SEQUENCE:3
DTSTAMP:20260420T144609Z
URL:https://greaterfayettevillechambernc.growthzoneapp.com/community-events/Details/career-resource-expo-2026-1691063?sourceTypeId=Hub
END:VEVENT
END:VCALENDAR
