BEGIN:VCALENDAR
VERSION:2.0
PRODID:-//ChamberMaster//Event Calendar 2.0//EN
METHOD:PUBLISH
X-PUBLISHED-TTL:P1H
REFRESH-INTERVAL:P1H
CALSCALE:GREGORIAN
BEGIN:VTIMEZONE
TZID:America/New_York
BEGIN:DAYLIGHT
RRULE:FREQ=YEARLY;BYMONTH=3;BYDAY=2SU
DTSTART:20070101T000000
TZOFFSETFROM:-0500
TZOFFSETTO:-0400
TZNAME:Eastern Daylight Time
END:DAYLIGHT
BEGIN:STANDARD
RRULE:FREQ=YEARLY;BYMONTH=11;BYDAY=1SU
DTSTART:20070101T000000
TZOFFSETFROM:-0400
TZOFFSETTO:-0500
TZNAME:Eastern Standard Time
END:STANDARD
END:VTIMEZONE
BEGIN:VEVENT
DTSTART;TZID=America/New_York:20261110T073000
DTEND;TZID=America/New_York:20261110T090000
X-MICROSOFT-CDO-ALLDAYEVENT:FALSE
SUMMARY:CHAMBER CHATTER - TOASTMASTERS
DESCRIPTION:Chamber Chatter Toastmasters is a supportive\, professional development group designed to help business leaders\, entrepreneurs\, and community members strengthen their public speaking and communication skills. This Toastmasters club provides a structured yet welcoming environment where participants can practice speaking\, receive constructive feedback\, and build confidence in everything from presentations to everyday business conversations. Whether you're looking to sharpen your leadership presence\, improve networking conversations\, or become a more effective storyteller\, Chamber Chatter Toastmasters offers a valuable space to grow\, connect\, and find your voice within the business community.
X-ALT-DESC;FMTTYPE=text/html:Chamber Chatter Toastmasters is a supportive\, professional development group designed to help business leaders\, entrepreneurs\, and community members strengthen their public speaking and communication skills. This Toastmasters club provides a structured yet welcoming environment where participants can practice speaking\, receive constructive feedback\, and build confidence in everything from presentations to everyday business conversations. Whether you're looking to sharpen your leadership presence\, improve networking conversations\, or become a more effective storyteller\, Chamber Chatter Toastmasters offers a valuable space to grow\, connect\, and find your voice within the business community.
LOCATION:1047 Murchison Rd.\, Ste 120 Fayetteville NC 28301
UID:e.4649.1427850
SEQUENCE:3
DTSTAMP:20260420T143624Z
URL:https://greaterfayettevillechambernc.growthzoneapp.com/community-events/Details/chamber-chatter-toastmasters-1689083?sourceTypeId=Hub
END:VEVENT
END:VCALENDAR
