BEGIN:VCALENDAR
VERSION:2.0
PRODID:-//ChamberMaster//Event Calendar 2.0//EN
METHOD:PUBLISH
X-PUBLISHED-TTL:P1H
REFRESH-INTERVAL:P1H
CALSCALE:GREGORIAN
BEGIN:VTIMEZONE
TZID:America/New_York
BEGIN:DAYLIGHT
RRULE:FREQ=YEARLY;BYMONTH=3;BYDAY=2SU
DTSTART:20070101T000000
TZOFFSETFROM:-0500
TZOFFSETTO:-0400
TZNAME:Eastern Daylight Time
END:DAYLIGHT
BEGIN:STANDARD
RRULE:FREQ=YEARLY;BYMONTH=11;BYDAY=1SU
DTSTART:20070101T000000
TZOFFSETFROM:-0400
TZOFFSETTO:-0500
TZNAME:Eastern Standard Time
END:STANDARD
END:VTIMEZONE
BEGIN:VEVENT
DTSTART;TZID=America/New_York:20260820T073000
DTEND;TZID=America/New_York:20260820T090000
X-MICROSOFT-CDO-ALLDAYEVENT:FALSE
SUMMARY:Chamber Coffee Club
DESCRIPTION:Start your morning with meaningful connections at the Greater Fayetteville Chamber Coffee Club! This networking event is designed to bring together Chamber members\, local professionals\, and community leaders over a fresh cup of coffee. Held at Highland Country Club the our Coffee Club provides a friendly\, informal setting to meet new people\, exchange ideas\, spotlight local businesses\, and stay informed about what's happening in our region. Whether you're looking to build relationships\, grow your business\, or simply start your day with great company\, the Chamber Coffee Club is the perfect way to stay connected and engaged with the Greater Fayetteville business community. Join us\, grab a cup\, and kickstart your morning with conversation\, collaboration\, and community.
X-ALT-DESC;FMTTYPE=text/html:<!DOCTYPE html><html><head><title></title></head><body aria-disabled="false"><p><span style="font-size: 18px\;">Start your morning with meaningful connections at the Greater Fayetteville Chamber Coffee Club! This networking event is designed to bring together Chamber members\, local professionals\, and community leaders over a fresh cup of coffee. Held at Highland Country Club the our Coffee Club provides a friendly\, informal setting to meet new people\, exchange ideas\, spotlight local businesses\, and stay informed about what&rsquo\;s happening in our region. Whether you&#39\;re looking to build relationships\, grow your business\, or simply start your day with great company\, the Chamber Coffee Club is the perfect way to stay connected and engaged with the Greater Fayetteville business community. Join us\, grab a cup\, and kickstart your morning with conversation\, collaboration\, and community.</span></p></body></html>
LOCATION:1105 Highland Country Club Dr. Fayetteville NC
UID:e.4649.1414502
SEQUENCE:3
DTSTAMP:20260420T143940Z
URL:https://greaterfayettevillechambernc.growthzoneapp.com/community-events/Details/chamber-coffee-club-1671525?sourceTypeId=Hub
END:VEVENT
END:VCALENDAR
