BEGIN:VCALENDAR
VERSION:2.0
PRODID:-//ChamberMaster//Event Calendar 2.0//EN
METHOD:PUBLISH
X-PUBLISHED-TTL:P1H
REFRESH-INTERVAL:P1H
CALSCALE:GREGORIAN
BEGIN:VTIMEZONE
TZID:America/New_York
BEGIN:DAYLIGHT
RRULE:FREQ=YEARLY;BYMONTH=3;BYDAY=2SU
DTSTART:20070101T000000
TZOFFSETFROM:-0500
TZOFFSETTO:-0400
TZNAME:Eastern Daylight Time
END:DAYLIGHT
BEGIN:STANDARD
RRULE:FREQ=YEARLY;BYMONTH=11;BYDAY=1SU
DTSTART:20070101T000000
TZOFFSETFROM:-0400
TZOFFSETTO:-0500
TZNAME:Eastern Standard Time
END:STANDARD
END:VTIMEZONE
BEGIN:VEVENT
DTSTART;TZID=America/New_York:20261022T173000
DTEND;TZID=America/New_York:20261022T200000
X-MICROSOFT-CDO-ALLDAYEVENT:FALSE
SUMMARY:Greater Carolina Oyster Roast 2026
DESCRIPTION:Welcome to the hottest event in October with the\nGreater Carolina Rock n' Boil!\n\n\nDescription of the Event: \n\nJoin members of the Greater Fayetteville Chamber at our last and biggest event of the year!  Event will feature the ever-beloved annual Oyster Roast along with a Low Country Boil and BBQ with the fixin's. With music\, a hot wing eating contest\, raffles and more\, you are guaranteed a good time! So come shuck oysters\, network with us and enjoy the biggest Chamber celebration of the year! \n\n*This is a business networking event. To this purpose\, the event is not intended for children or minors.
X-ALT-DESC;FMTTYPE=text/html:Welcome to the hottest event in October with the\nGreater Carolina Rock n' Boil!\n\n\nDescription of the Event: \n\nJoin members of the Greater Fayetteville Chamber at our last and biggest event of the year!  Event will feature the ever-beloved annual Oyster Roast along with a Low Country Boil and BBQ with the fixin's. With music\, a hot wing eating contest\, raffles and more\, you are guaranteed a good time! So come shuck oysters\, network with us and enjoy the biggest Chamber celebration of the year! \n\n*This is a business networking event. To this purpose\, the event is not intended for children or minors.
LOCATION:460 Hay Street Fayetteville NC 28301
UID:e.4649.1429587
SEQUENCE:3
DTSTAMP:20260420T144050Z
URL:https://greaterfayettevillechambernc.growthzoneapp.com/community-events/Details/greater-carolina-oyster-roast-2026-1691103?sourceTypeId=Hub
END:VEVENT
END:VCALENDAR
