BEGIN:VCALENDAR
VERSION:2.0
PRODID:-//ChamberMaster//Event Calendar 2.0//EN
METHOD:PUBLISH
X-PUBLISHED-TTL:P1H
REFRESH-INTERVAL:P1H
CALSCALE:GREGORIAN
BEGIN:VTIMEZONE
TZID:America/New_York
BEGIN:DAYLIGHT
RRULE:FREQ=YEARLY;BYMONTH=3;BYDAY=2SU
DTSTART:20070101T000000
TZOFFSETFROM:-0500
TZOFFSETTO:-0400
TZNAME:Eastern Daylight Time
END:DAYLIGHT
BEGIN:STANDARD
RRULE:FREQ=YEARLY;BYMONTH=11;BYDAY=1SU
DTSTART:20070101T000000
TZOFFSETFROM:-0400
TZOFFSETTO:-0500
TZNAME:Eastern Standard Time
END:STANDARD
END:VTIMEZONE
BEGIN:VEVENT
DTSTART;TZID=America/New_York:20260519T110000
DTEND;TZID=America/New_York:20260519T130000
X-MICROSOFT-CDO-ALLDAYEVENT:FALSE
SUMMARY:NCDOL Safety Awards Banquet 2026
DESCRIPTION:APPLY NOW! The NCDOL Safety Awards are now open\, and this is your opportunity to have your company's commitment to safety recognized at the state level. These awards honor businesses that go above and beyond to protect their employees\, job sites\, and the traveling public on NCDOL projects. If your organization prioritizes safety training\, maintains strong safety practices\, or has demonstrated outstanding safety performance   you may already qualify. Applying is more than checking a box. It's a chance to: Showcase your safety culture.Strengthen your reputation with NCDOL and industry partners.Recognize the teams who make safety a daily priority.We encourage all eligible contractors and firms to take the time to complete the application and highlight the work you're already doing to keep North Carolina's roads and communities safe. Don't miss the opportunity to be recognized - submit your NCDOL Safety Awards application today!
X-ALT-DESC;FMTTYPE=text/html:<!DOCTYPE html><html><head><title></title></head><body aria-disabled="false"><p><a fr-original-style="" href="https://www.labor.nc.gov/safety-awards-application" style="user-select: auto\;">APPLY NOW! </a></p><p>The NCDOL Safety Awards are now open\, and this is your opportunity to have your company&rsquo\;s commitment to safety recognized at the state level.&nbsp\;</p><p>These awards honor businesses that go above and beyond to protect their employees\, job sites\, and the traveling public on NCDOL projects. If your organization prioritizes safety training\, maintains strong safety practices\, or has demonstrated outstanding safety performance &mdash\; you may already qualify. Applying is more than checking a box.&nbsp\;</p><p>It&rsquo\;s a chance to:&nbsp\;</p><ul fr-original-style="" style="list-style-position: inside\;"><li>Showcase your safety culture.</li><li>Strengthen your reputation with NCDOL and industry partners.</li><li>Recognize the teams who make safety a daily priority.</li></ul><p>We encourage all eligible contractors and firms to take the time to complete the application and highlight the work you&rsquo\;re already doing to keep North Carolina&rsquo\;s roads and communities safe. Don&rsquo\;t miss the opportunity to be recognized - <a fr-original-style="" href="https://www.labor.nc.gov/safety-awards-application" style="user-select: auto\;">submit your NCDOL Safety Awards application today</a>!</p></body></html>
LOCATION:1960 Coliseum Drive Fayetteville NC 28306
UID:e.4649.1429542
SEQUENCE:3
DTSTAMP:20260420T144051Z
URL:https://greaterfayettevillechambernc.growthzoneapp.com/community-events/Details/ncdol-safety-awards-banquet-2026-1691058?sourceTypeId=Hub
END:VEVENT
END:VCALENDAR
