BEGIN:VCALENDAR
VERSION:2.0
PRODID:-//ChamberMaster//Event Calendar 2.0//EN
METHOD:PUBLISH
X-PUBLISHED-TTL:P1H
REFRESH-INTERVAL:P1H
CALSCALE:GREGORIAN
BEGIN:VTIMEZONE
TZID:America/New_York
BEGIN:DAYLIGHT
RRULE:FREQ=YEARLY;BYMONTH=3;BYDAY=2SU
DTSTART:20070101T000000
TZOFFSETFROM:-0500
TZOFFSETTO:-0400
TZNAME:Eastern Daylight Time
END:DAYLIGHT
BEGIN:STANDARD
RRULE:FREQ=YEARLY;BYMONTH=11;BYDAY=1SU
DTSTART:20070101T000000
TZOFFSETFROM:-0400
TZOFFSETTO:-0500
TZNAME:Eastern Standard Time
END:STANDARD
END:VTIMEZONE
BEGIN:VEVENT
DTSTART;TZID=America/New_York:20260514T140000
DTEND;TZID=America/New_York:20260514T150000
X-MICROSOFT-CDO-ALLDAYEVENT:FALSE
SUMMARY:STARnetwork Social\, Hosted by MAIN EVENT
DESCRIPTION:STARnetwork is a vibrant community designed to connect hospitality professionals across the Service\, Tourism\, Attractions\, and Restaurant sectors. By fostering collaboration\, sharing best practices\, and cultivating meaningful relationships\, we strengthen the entire hospitality community creating new opportunities for growth and ensuring every visitor enjoys the very best our region has to offer.
X-ALT-DESC;FMTTYPE=text/html:STARnetwork is a vibrant community designed to connect hospitality professionals across the Service\, Tourism\, Attractions\, and Restaurant sectors. By fostering collaboration\, sharing best practices\, and cultivating meaningful relationships\, we strengthen the entire hospitality community creating new opportunities for growth and ensuring every visitor enjoys the very best our region has to offer.
LOCATION:580 Cross Creek Mall Fayetteville NC 28303
UID:e.4649.1427895
SEQUENCE:3
DTSTAMP:20260420T143624Z
URL:https://greaterfayettevillechambernc.growthzoneapp.com/community-events/Details/starnetwork-social-hosted-by-main-event-1689199?sourceTypeId=Hub
END:VEVENT
END:VCALENDAR
