BEGIN:VCALENDAR
VERSION:2.0
PRODID:-//ChamberMaster//Event Calendar 2.0//EN
METHOD:PUBLISH
X-PUBLISHED-TTL:P1H
REFRESH-INTERVAL:P1H
CALSCALE:GREGORIAN
BEGIN:VTIMEZONE
TZID:America/New_York
BEGIN:DAYLIGHT
RRULE:FREQ=YEARLY;BYMONTH=3;BYDAY=2SU
DTSTART:20070101T000000
TZOFFSETFROM:-0500
TZOFFSETTO:-0400
TZNAME:Eastern Daylight Time
END:DAYLIGHT
BEGIN:STANDARD
RRULE:FREQ=YEARLY;BYMONTH=11;BYDAY=1SU
DTSTART:20070101T000000
TZOFFSETFROM:-0400
TZOFFSETTO:-0500
TZNAME:Eastern Standard Time
END:STANDARD
END:VTIMEZONE
BEGIN:VEVENT
DTSTART;TZID=America/New_York:20260825T110000
DTEND;TZID=America/New_York:20260825T133000
X-MICROSOFT-CDO-ALLDAYEVENT:FALSE
SUMMARY:State of the Community 2026
DESCRIPTION:ABOUT THE EVENT\nState of the Community assembles City of Fayetteville and Cumberland County leaders under one roof to discuss current conditions and future developments throughout the region. During this event\, government officials\, lawmakers and administrators will present topics such as economic development\, healthcare\, education\, military\, local government and the positive impact of collaborative partnerships.\n\n2025 DISTINGUISHED SPEAKERS:\nThom Tillis U.S. Senator\, North Carolina \nDavid Rouzer US Representative\, NC District 7 \nKirk deViere Chair of the Cumberland County Board of Commissioners \nMitch Colvin Mayor of the City of Fayetteville \nMike Nagowski CEO of Cape Fear Valley Health\nDr. Stanley T. Wearden President of Methodist University\nDavid Zeitz President of Longleaf Pine Realtors
X-ALT-DESC;FMTTYPE=text/html:ABOUT THE EVENT\nState of the Community assembles City of Fayetteville and Cumberland County leaders under one roof to discuss current conditions and future developments throughout the region. During this event\, government officials\, lawmakers and administrators will present topics such as economic development\, healthcare\, education\, military\, local government and the positive impact of collaborative partnerships.\n\n2025 DISTINGUISHED SPEAKERS:\nThom Tillis U.S. Senator\, North Carolina \nDavid Rouzer US Representative\, NC District 7 \nKirk deViere Chair of the Cumberland County Board of Commissioners \nMitch Colvin Mayor of the City of Fayetteville \nMike Nagowski CEO of Cape Fear Valley Health\nDr. Stanley T. Wearden President of Methodist University\nDavid Zeitz President of Longleaf Pine Realtors
LOCATION:1960 Coliseum Drive Fayetteville NC 28306
UID:e.4649.1429552
SEQUENCE:3
DTSTAMP:20260420T144055Z
URL:https://greaterfayettevillechambernc.growthzoneapp.com/community-events/Details/state-of-the-community-2026-1691068?sourceTypeId=Hub
END:VEVENT
END:VCALENDAR
