BEGIN:VCALENDAR
VERSION:2.0
PRODID:-//ChamberMaster//Event Calendar 2.0//EN
METHOD:PUBLISH
X-PUBLISHED-TTL:P1H
REFRESH-INTERVAL:P1H
CALSCALE:GREGORIAN
BEGIN:VTIMEZONE
TZID:America/New_York
BEGIN:DAYLIGHT
RRULE:FREQ=YEARLY;BYMONTH=3;BYDAY=2SU
DTSTART:20070101T000000
TZOFFSETFROM:-0500
TZOFFSETTO:-0400
TZNAME:Eastern Daylight Time
END:DAYLIGHT
BEGIN:STANDARD
RRULE:FREQ=YEARLY;BYMONTH=11;BYDAY=1SU
DTSTART:20070101T000000
TZOFFSETFROM:-0400
TZOFFSETTO:-0500
TZNAME:Eastern Standard Time
END:STANDARD
END:VTIMEZONE
BEGIN:VEVENT
DTSTART;TZID=America/New_York:20260908T070000
DTEND;TZID=America/New_York:20260908T100000
X-MICROSOFT-CDO-ALLDAYEVENT:FALSE
SUMMARY:Valor Public Safety Awards Banquet
DESCRIPTION:The Public Safety Valor Awards honors community first responders for service and acts of heroism. Featuring over 50 award recipients across eight categories\, the event allowed some light to be shed over some of the heroic and life changing actions taken everyday by local heroes.\n\nThe Greater Fayetteville Chamber is pleased to announce the 2025 Annual Public Safety Valor Awards on September 9\, 2025. This event is to show community appreciation to our first responders in the City of Fayetteville\, Cumberland County and at Fort Bragg.\n\n\nThese awardees are nominated by their Chief or agency head from a range of law enforcement\, fire/rescue\, and emergency management agencies that serve Cumberland County for the awards found below. Incidents should have occurred within Cumberland County in the past year\, or have involved first responders representing a local public safety agency.\n\n\nIf a first responder has gone above and beyond for you or your family\, nominate him/her for the "People's Choice" award by emailing your story to events@faybiz.com.\n\n\n\nAwards\n\nUnit Citation\n\nRecognizes the combined efforts of a unit as they serve our community.\n\n \nCitizens Award\n Recognizes a citizen for aiding first responders and community members.\n \n\nAward of Merit\nRecognizes outstanding public safety work\, demonstrating initiative\, ingenuity\, and/or diligence in performing their duties.\n\n\n\nLife Saving Award\n\nAwarded in recognition of official acts taken in a life-threatening situation where an individual's life is in jeopardy\, medically or physically.\n\nValor Award\nThe highest award for valor and heroism. Awarded in cases in which a public safety official knowingly places themselves at risk of death or extreme serious bodily harm in performing an official act.\n\nHall of Fame\nHonors exceptional leaders in Cumberland County in the field of pubic safety who have made significant contributions to their profession. \n(Typically only 1 honoree per year will receive this award)\n\nFreddy L. Johnson\, Sr. Leadership Award\nRecognizes an individual that has reached the pinnacle of community leadership and service.\n(Typically only 1 honoree per year will receive this award)
X-ALT-DESC;FMTTYPE=text/html:The Public Safety Valor Awards honors community first responders for service and acts of heroism. Featuring over 50 award recipients across eight categories\, the event allowed some light to be shed over some of the heroic and life changing actions taken everyday by local heroes.\n\nThe Greater Fayetteville Chamber is pleased to announce the 2025 Annual Public Safety Valor Awards on September 9\, 2025. This event is to show community appreciation to our first responders in the City of Fayetteville\, Cumberland County and at Fort Bragg.\n\n\nThese awardees are nominated by their Chief or agency head from a range of law enforcement\, fire/rescue\, and emergency management agencies that serve Cumberland County for the awards found below. Incidents should have occurred within Cumberland County in the past year\, or have involved first responders representing a local public safety agency.\n\n\nIf a first responder has gone above and beyond for you or your family\, nominate him/her for the "People's Choice" award by emailing your story to events@faybiz.com.\n\n\n\nAwards\n\nUnit Citation\n\nRecognizes the combined efforts of a unit as they serve our community.\n\n \nCitizens Award\n Recognizes a citizen for aiding first responders and community members.\n \n\nAward of Merit\nRecognizes outstanding public safety work\, demonstrating initiative\, ingenuity\, and/or diligence in performing their duties.\n\n\n\nLife Saving Award\n\nAwarded in recognition of official acts taken in a life-threatening situation where an individual's life is in jeopardy\, medically or physically.\n\nValor Award\nThe highest award for valor and heroism. Awarded in cases in which a public safety official knowingly places themselves at risk of death or extreme serious bodily harm in performing an official act.\n\nHall of Fame\nHonors exceptional leaders in Cumberland County in the field of pubic safety who have made significant contributions to their profession. \n(Typically only 1 honoree per year will receive this award)\n\nFreddy L. Johnson\, Sr. Leadership Award\nRecognizes an individual that has reached the pinnacle of community leadership and service.\n(Typically only 1 honoree per year will receive this award)
LOCATION:5117 Cliffdale Rd. Fayetteville NC 28314
UID:e.4649.1429562
SEQUENCE:3
DTSTAMP:20260420T144718Z
URL:https://greaterfayettevillechambernc.growthzoneapp.com/community-events/Details/valor-public-safety-awards-banquet-1691078?sourceTypeId=Hub
END:VEVENT
END:VCALENDAR
